BEGIN:VCALENDAR
VERSION:2.0
PRODID:-//NAMI Northern Lakes - ECPv6.15.20//NONSGML v1.0//EN
CALSCALE:GREGORIAN
METHOD:PUBLISH
X-WR-CALNAME:NAMI Northern Lakes
X-ORIGINAL-URL:https://naminorthernlakes.org
X-WR-CALDESC:Events for NAMI Northern Lakes
REFRESH-INTERVAL;VALUE=DURATION:PT1H
X-Robots-Tag:noindex
X-PUBLISHED-TTL:PT1H
BEGIN:VTIMEZONE
TZID:America/Chicago
BEGIN:DAYLIGHT
TZOFFSETFROM:-0600
TZOFFSETTO:-0500
TZNAME:CDT
DTSTART:20250309T080000
END:DAYLIGHT
BEGIN:STANDARD
TZOFFSETFROM:-0500
TZOFFSETTO:-0600
TZNAME:CST
DTSTART:20251102T070000
END:STANDARD
BEGIN:DAYLIGHT
TZOFFSETFROM:-0600
TZOFFSETTO:-0500
TZNAME:CDT
DTSTART:20260308T080000
END:DAYLIGHT
BEGIN:STANDARD
TZOFFSETFROM:-0500
TZOFFSETTO:-0600
TZNAME:CST
DTSTART:20261101T070000
END:STANDARD
BEGIN:DAYLIGHT
TZOFFSETFROM:-0600
TZOFFSETTO:-0500
TZNAME:CDT
DTSTART:20270314T080000
END:DAYLIGHT
BEGIN:STANDARD
TZOFFSETFROM:-0500
TZOFFSETTO:-0600
TZNAME:CST
DTSTART:20271107T070000
END:STANDARD
END:VTIMEZONE
BEGIN:VEVENT
DTSTART;TZID=America/Chicago:20260421T113000
DTEND;TZID=America/Chicago:20260421T120000
DTSTAMP:20260421T045744
CREATED:20260316T010001Z
LAST-MODIFIED:20260316T010001Z
UID:10005232-1776771000-1776772800@naminorthernlakes.org
SUMMARY:Walking Group
DESCRIPTION:
URL:https://naminorthernlakes.org/event/walking-group/2026-04-21/
LOCATION:Trinity Lutheran\, 235 N. Stevens St.\, Rhinelander\, WI\, 54501\, United States
END:VEVENT
BEGIN:VEVENT
DTSTART;TZID=America/Chicago:20260421T130000
DTEND;TZID=America/Chicago:20260421T140000
DTSTAMP:20260421T045744
CREATED:20250820T182113Z
LAST-MODIFIED:20250820T182412Z
UID:10004865-1776776400-1776780000@naminorthernlakes.org
SUMMARY:Peer Support Group (HYBRID)
DESCRIPTION:Tuesdays from 1-2. In person at Trinity Lutheran Church or can attend via zoom. Email contact@naminorthernlakes.org for zoom link.
URL:https://naminorthernlakes.org/event/peer-support-group-hybrid-2-2/2026-04-21/
LOCATION:Zoom
CATEGORIES:Support Group
END:VEVENT
BEGIN:VEVENT
DTSTART;TZID=America/Chicago:20260421T174500
DTEND;TZID=America/Chicago:20260421T184500
DTSTAMP:20260421T045744
CREATED:20260204T162752Z
LAST-MODIFIED:20260204T162752Z
UID:10005135-1776793500-1776797100@naminorthernlakes.org
SUMMARY:Stewardship Committee Meeting
DESCRIPTION:
URL:https://naminorthernlakes.org/event/stewardship-committee-meeting/2026-04-21/
LOCATION:Zoom
CATEGORIES:Board Meeting
END:VEVENT
END:VCALENDAR